OziExplorer Map Data File Version 2.2
xl18-023.3x2
xl18-023.3x2.png
1 ,Map Code,
Pulkovo 1942 (2),WGS 84, 0.0000, 0.0000,WGS 84
Reserved 1
Reserved 2
Magnetic Variation,,,E
Map Projection,Transverse Mercator,PolyCal,No,AutoCalOnly,No,BSBUseWPX,No
Point01,xy, 10, 53,in, deg, 44,0.000704,S, 73,0.000534,W, grid, , , ,N
Point02,xy, 63, 5888,in, deg, 44,40.002833,S, 73,0.004641,W, grid, , , ,N
Point03,xy, 9435, 5890,in, deg, 44,40.003692,S, 71,30.005435,W, grid, , , ,N
Point04,xy, 9489, 52,in, deg, 44,0.006736,S, 71,30.000505,W, grid, , , ,N
Point05,xy, , ,in, deg, , ,N, , ,W, grid, , , ,N
Point06,xy, , ,in, deg, , ,N, , ,W, grid, , , ,N
Point07,xy, , ,in, deg, , ,N, , ,W, grid, , , ,N
Point08,xy, , ,in, deg, , ,N, , ,W, grid, , , ,N
Point09,xy, , ,in, deg, , ,N, , ,W, grid, , , ,N
Point10,xy, , ,in, deg, , ,N, , ,W, grid, , , ,N
Point11,xy, , ,in, deg, , ,N, , ,W, grid, , , ,N
Point12,xy, , ,in, deg, , ,N, , ,W, grid, , , ,N
Point13,xy, , ,in, deg, , ,N, , ,W, grid, , , ,N
Point14,xy, , ,in, deg, , ,N, , ,W, grid, , , ,N
Point15,xy, , ,in, deg, , ,N, , ,W, grid, , , ,N
Point16,xy, , ,in, deg, , ,N, , ,W, grid, , , ,N
Point17,xy, , ,in, deg, , ,N, , ,W, grid, , , ,N
Point18,xy, , ,in, deg, , ,N, , ,W, grid, , , ,N
Point19,xy, , ,in, deg, , ,N, , ,W, grid, , , ,N
Point20,xy, , ,in, deg, , ,N, , ,W, grid, , , ,N
Point21,xy, , ,in, deg, , ,N, , ,W, grid, , , ,N
Point22,xy, , ,in, deg, , ,N, , ,W, grid, , , ,N
Point23,xy, , ,in, deg, , ,N, , ,W, grid, , , ,N
Point24,xy, , ,in, deg, , ,N, , ,W, grid, , , ,N
Point25,xy, , ,in, deg, , ,N, , ,W, grid, , , ,N
Point26,xy, , ,in, deg, , ,N, , ,W, grid, , , ,N
Point27,xy, , ,in, deg, , ,N, , ,W, grid, , , ,N
Point28,xy, , ,in, deg, , ,N, , ,W, grid, , , ,N
Point29,xy, , ,in, deg, , ,N, , ,W, grid, , , ,N
Point30,xy, , ,in, deg, , ,N, , ,W, grid, , , ,N
Projection Setup,0.0,-75,1.0,48500000,0.0
Map Feature = MF ; Map Comment = MC These follow if they exist
Track File = TF These follow if they exist
Moving Map Parameters = MM? These follow if they exist
MM0,Yes
MMPNUM,10
MMPXY,1,63,5888
MMPXY,2,2406,5872
MMPXY,3,4163,5867
MMPXY,4,6799,5871
MMPXY,5,9436,5889
MMPXY,6,9489,51
MMPXY,7,7119,35
MMPXY,8,5341,31
MMPXY,9,2675,35
MMPXY,10,10,53
MMPLL,1,-73.000000, -44.666667
MMPLL,2,-72.625000, -44.666667
MMPLL,3,-72.343750, -44.666667
MMPLL,4,-71.921875, -44.666667
MMPLL,5,-71.500000, -44.666667
MMPLL,6,-71.500000, -44.000000
MMPLL,7,-71.875000, -44.000000
MMPLL,8,-72.156250, -44.000000
MMPLL,9,-72.578125, -44.000000
MMPLL,10,-73.000000, -44.000000
MM1B,12.697122
MOP,Map Open Position,0,0
IWH,Map Image Width/Height,9500,5900
