OziExplorer Map Data File Version 2.2
r46-111.4x4
r46-111.4x4.png
1 ,Map Code,
Pulkovo 1942 (2),WGS 84, 0.0000, 0.0000,WGS 84
Reserved 1
Reserved 2
Magnetic Variation,,,E
Map Projection,Transverse Mercator,PolyCal,No,AutoCalOnly,No,BSBUseWPX,No
Point01,xy, 10,11742,in, deg, 68,39.995578,N, 90,59.999070,E, grid, , , ,N
Point02,xy, 201, 31,in, deg, 69,59.994388,N, 90,59.993671,E, grid, , , ,N
Point03,xy, 6214, 31,in, deg, 69,59.997442,N, 92,59.981282,E, grid, , , ,N
Point04,xy, 6406,11741,in, deg, 68,39.999275,N, 92,59.996550,E, grid, , , ,N
Point05,xy, , ,in, deg, , ,N, , ,W, grid, , , ,N
Point06,xy, , ,in, deg, , ,N, , ,W, grid, , , ,N
Point07,xy, , ,in, deg, , ,N, , ,W, grid, , , ,N
Point08,xy, , ,in, deg, , ,N, , ,W, grid, , , ,N
Point09,xy, , ,in, deg, , ,N, , ,W, grid, , , ,N
Point10,xy, , ,in, deg, , ,N, , ,W, grid, , , ,N
Point11,xy, , ,in, deg, , ,N, , ,W, grid, , , ,N
Point12,xy, , ,in, deg, , ,N, , ,W, grid, , , ,N
Point13,xy, , ,in, deg, , ,N, , ,W, grid, , , ,N
Point14,xy, , ,in, deg, , ,N, , ,W, grid, , , ,N
Point15,xy, , ,in, deg, , ,N, , ,W, grid, , , ,N
Point16,xy, , ,in, deg, , ,N, , ,W, grid, , , ,N
Point17,xy, , ,in, deg, , ,N, , ,W, grid, , , ,N
Point18,xy, , ,in, deg, , ,N, , ,W, grid, , , ,N
Point19,xy, , ,in, deg, , ,N, , ,W, grid, , , ,N
Point20,xy, , ,in, deg, , ,N, , ,W, grid, , , ,N
Point21,xy, , ,in, deg, , ,N, , ,W, grid, , , ,N
Point22,xy, , ,in, deg, , ,N, , ,W, grid, , , ,N
Point23,xy, , ,in, deg, , ,N, , ,W, grid, , , ,N
Point24,xy, , ,in, deg, , ,N, , ,W, grid, , , ,N
Point25,xy, , ,in, deg, , ,N, , ,W, grid, , , ,N
Point26,xy, , ,in, deg, , ,N, , ,W, grid, , , ,N
Point27,xy, , ,in, deg, , ,N, , ,W, grid, , , ,N
Point28,xy, , ,in, deg, , ,N, , ,W, grid, , , ,N
Point29,xy, , ,in, deg, , ,N, , ,W, grid, , , ,N
Point30,xy, , ,in, deg, , ,N, , ,W, grid, , , ,N
Projection Setup,0.0,93,1.0,16500000,0.0
Map Feature = MF ; Map Comment = MC These follow if they exist
Track File = TF These follow if they exist
Moving Map Parameters = MM? These follow if they exist
MM0,Yes
MMPNUM,12
MMPXY,1,10,11741
MMPXY,2,810,11753
MMPXY,3,2209,11765
MMPXY,4,3258,11767
MMPXY,5,4832,11760
MMPXY,6,6406,11741
MMPXY,7,6215,31
MMPXY,8,5463,41
MMPXY,9,4148,53
MMPXY,10,3161,55
MMPXY,11,1681,49
MMPXY,12,201,30
MMPLL,1, 91.000000, 68.666667
MMPLL,2, 91.250000, 68.666667
MMPLL,3, 91.687500, 68.666667
MMPLL,4, 92.015625, 68.666667
MMPLL,5, 92.507812, 68.666667
MMPLL,6, 93.000000, 68.666667
MMPLL,7, 93.000000, 70.000000
MMPLL,8, 92.750000, 70.000000
MMPLL,9, 92.312500, 70.000000
MMPLL,10, 91.984375, 70.000000
MMPLL,11, 91.492187, 70.000000
MMPLL,12, 91.000000, 70.000000
MM1B,12.671344
MOP,Map Open Position,0,0
IWH,Map Image Width/Height,6417,11778
