OziExplorer Map Data File Version 2.2
q55-109,110
q55-109,110.png
1 ,Map Code,
Pulkovo 1942 (2),WGS 84, 0.0000, 0.0000,WGS 84
Reserved 1
Reserved 2
Magnetic Variation,,,E
Map Projection,Transverse Mercator,PolyCal,No,AutoCalOnly,No,BSBUseWPX,No
Point01,xy, 10, 2958,in, deg, 64,39.999054,N, 143,59.991254,E, grid, , , ,N
Point02,xy, 33, 31,in, deg, 64,59.999507,N, 143,59.989076,E, grid, , , ,N
Point03,xy, 3748, 32,in, deg, 64,59.994135,N, 144,59.984565,E, grid, , , ,N
Point04,xy, 3772, 2958,in, deg, 64,39.997706,N, 144,59.998832,E, grid, , , ,N
Point05,xy, , ,in, deg, , ,N, , ,W, grid, , , ,N
Point06,xy, , ,in, deg, , ,N, , ,W, grid, , , ,N
Point07,xy, , ,in, deg, , ,N, , ,W, grid, , , ,N
Point08,xy, , ,in, deg, , ,N, , ,W, grid, , , ,N
Point09,xy, , ,in, deg, , ,N, , ,W, grid, , , ,N
Point10,xy, , ,in, deg, , ,N, , ,W, grid, , , ,N
Point11,xy, , ,in, deg, , ,N, , ,W, grid, , , ,N
Point12,xy, , ,in, deg, , ,N, , ,W, grid, , , ,N
Point13,xy, , ,in, deg, , ,N, , ,W, grid, , , ,N
Point14,xy, , ,in, deg, , ,N, , ,W, grid, , , ,N
Point15,xy, , ,in, deg, , ,N, , ,W, grid, , , ,N
Point16,xy, , ,in, deg, , ,N, , ,W, grid, , , ,N
Point17,xy, , ,in, deg, , ,N, , ,W, grid, , , ,N
Point18,xy, , ,in, deg, , ,N, , ,W, grid, , , ,N
Point19,xy, , ,in, deg, , ,N, , ,W, grid, , , ,N
Point20,xy, , ,in, deg, , ,N, , ,W, grid, , , ,N
Point21,xy, , ,in, deg, , ,N, , ,W, grid, , , ,N
Point22,xy, , ,in, deg, , ,N, , ,W, grid, , , ,N
Point23,xy, , ,in, deg, , ,N, , ,W, grid, , , ,N
Point24,xy, , ,in, deg, , ,N, , ,W, grid, , , ,N
Point25,xy, , ,in, deg, , ,N, , ,W, grid, , , ,N
Point26,xy, , ,in, deg, , ,N, , ,W, grid, , , ,N
Point27,xy, , ,in, deg, , ,N, , ,W, grid, , , ,N
Point28,xy, , ,in, deg, , ,N, , ,W, grid, , , ,N
Point29,xy, , ,in, deg, , ,N, , ,W, grid, , , ,N
Point30,xy, , ,in, deg, , ,N, , ,W, grid, , , ,N
Projection Setup,0.0,147,1.0,25500000,0.0
Map Feature = MF ; Map Comment = MC These follow if they exist
Track File = TF These follow if they exist
Moving Map Parameters = MM? These follow if they exist
MM0,Yes
MMPNUM,8
MMPXY,1,11,2958
MMPXY,2,951,2963
MMPXY,3,2362,2965
MMPXY,4,3772,2958
MMPXY,5,3749,31
MMPXY,6,2820,37
MMPXY,7,1427,38
MMPXY,8,34,31
MMPLL,1,144.000000, 64.666667
MMPLL,2,144.250000, 64.666667
MMPLL,3,144.625000, 64.666667
MMPLL,4,145.000000, 64.666667
MMPLL,5,145.000000, 65.000000
MMPLL,6,144.750000, 65.000000
MMPLL,7,144.375000, 65.000000
MMPLL,8,144.000000, 65.000000
MM1B,12.674080
MOP,Map Open Position,0,0
IWH,Map Image Width/Height,3783,2975
