OziExplorer Map Data File Version 2.2
q54-107,108
q54-107,108.png
1 ,Map Code,
Pulkovo 1942 (2),WGS 84, 0.0000, 0.0000,WGS 84
Reserved 1
Reserved 2
Magnetic Variation,,,E
Map Projection,Transverse Mercator,PolyCal,No,AutoCalOnly,No,BSBUseWPX,No
Point01,xy, 10, 2958,in, deg, 64,59.994912,N, 142,59.996232,E, grid, , , ,N
Point02,xy, 33, 31,in, deg, 65,19.997276,N, 142,59.993109,E, grid, , , ,N
Point03,xy, 3702, 31,in, deg, 65,19.995977,N, 143,59.994690,E, grid, , , ,N
Point04,xy, 3725, 2958,in, deg, 64,59.996300,N, 143,59.991677,E, grid, , , ,N
Point05,xy, , ,in, deg, , ,N, , ,W, grid, , , ,N
Point06,xy, , ,in, deg, , ,N, , ,W, grid, , , ,N
Point07,xy, , ,in, deg, , ,N, , ,W, grid, , , ,N
Point08,xy, , ,in, deg, , ,N, , ,W, grid, , , ,N
Point09,xy, , ,in, deg, , ,N, , ,W, grid, , , ,N
Point10,xy, , ,in, deg, , ,N, , ,W, grid, , , ,N
Point11,xy, , ,in, deg, , ,N, , ,W, grid, , , ,N
Point12,xy, , ,in, deg, , ,N, , ,W, grid, , , ,N
Point13,xy, , ,in, deg, , ,N, , ,W, grid, , , ,N
Point14,xy, , ,in, deg, , ,N, , ,W, grid, , , ,N
Point15,xy, , ,in, deg, , ,N, , ,W, grid, , , ,N
Point16,xy, , ,in, deg, , ,N, , ,W, grid, , , ,N
Point17,xy, , ,in, deg, , ,N, , ,W, grid, , , ,N
Point18,xy, , ,in, deg, , ,N, , ,W, grid, , , ,N
Point19,xy, , ,in, deg, , ,N, , ,W, grid, , , ,N
Point20,xy, , ,in, deg, , ,N, , ,W, grid, , , ,N
Point21,xy, , ,in, deg, , ,N, , ,W, grid, , , ,N
Point22,xy, , ,in, deg, , ,N, , ,W, grid, , , ,N
Point23,xy, , ,in, deg, , ,N, , ,W, grid, , , ,N
Point24,xy, , ,in, deg, , ,N, , ,W, grid, , , ,N
Point25,xy, , ,in, deg, , ,N, , ,W, grid, , , ,N
Point26,xy, , ,in, deg, , ,N, , ,W, grid, , , ,N
Point27,xy, , ,in, deg, , ,N, , ,W, grid, , , ,N
Point28,xy, , ,in, deg, , ,N, , ,W, grid, , , ,N
Point29,xy, , ,in, deg, , ,N, , ,W, grid, , , ,N
Point30,xy, , ,in, deg, , ,N, , ,W, grid, , , ,N
Projection Setup,0.0,141,1.0,24500000,0.0
Map Feature = MF ; Map Comment = MC These follow if they exist
Track File = TF These follow if they exist
Moving Map Parameters = MM? These follow if they exist
MM0,Yes
MMPNUM,8
MMPXY,1,10,2957
MMPXY,2,939,2963
MMPXY,3,2332,2964
MMPXY,4,3726,2957
MMPXY,5,3702,30
MMPXY,6,2785,36
MMPXY,7,1409,37
MMPXY,8,33,31
MMPLL,1,143.000000, 65.000000
MMPLL,2,143.250000, 65.000000
MMPLL,3,143.625000, 65.000000
MMPLL,4,144.000000, 65.000000
MMPLL,5,144.000000, 65.333333
MMPLL,6,143.750000, 65.333333
MMPLL,7,143.375000, 65.333333
MMPLL,8,143.000000, 65.333333
MM1B,12.673840
MOP,Map Open Position,0,0
IWH,Map Image Width/Height,3736,2975
