OziExplorer Map Data File Version 2.2
p54-071,072
p54-071,072.png
1 ,Map Code,
Pulkovo 1942 (2),WGS 84, 0.0000, 0.0000,WGS 84
Reserved 1
Reserved 2
Magnetic Variation,,,E
Map Projection,Transverse Mercator,PolyCal,No,AutoCalOnly,No,BSBUseWPX,No
Point01,xy, 10, 2956,in, deg, 61,59.999779,N, 142,59.989842,E, grid, , , ,N
Point02,xy, 33, 31,in, deg, 62,19.996365,N, 142,59.995893,E, grid, , , ,N
Point03,xy, 4114, 31,in, deg, 62,19.994768,N, 143,59.987287,E, grid, , , ,N
Point04,xy, 4137, 2957,in, deg, 61,59.994667,N, 143,59.993363,E, grid, , , ,N
Point05,xy, , ,in, deg, , ,N, , ,W, grid, , , ,N
Point06,xy, , ,in, deg, , ,N, , ,W, grid, , , ,N
Point07,xy, , ,in, deg, , ,N, , ,W, grid, , , ,N
Point08,xy, , ,in, deg, , ,N, , ,W, grid, , , ,N
Point09,xy, , ,in, deg, , ,N, , ,W, grid, , , ,N
Point10,xy, , ,in, deg, , ,N, , ,W, grid, , , ,N
Point11,xy, , ,in, deg, , ,N, , ,W, grid, , , ,N
Point12,xy, , ,in, deg, , ,N, , ,W, grid, , , ,N
Point13,xy, , ,in, deg, , ,N, , ,W, grid, , , ,N
Point14,xy, , ,in, deg, , ,N, , ,W, grid, , , ,N
Point15,xy, , ,in, deg, , ,N, , ,W, grid, , , ,N
Point16,xy, , ,in, deg, , ,N, , ,W, grid, , , ,N
Point17,xy, , ,in, deg, , ,N, , ,W, grid, , , ,N
Point18,xy, , ,in, deg, , ,N, , ,W, grid, , , ,N
Point19,xy, , ,in, deg, , ,N, , ,W, grid, , , ,N
Point20,xy, , ,in, deg, , ,N, , ,W, grid, , , ,N
Point21,xy, , ,in, deg, , ,N, , ,W, grid, , , ,N
Point22,xy, , ,in, deg, , ,N, , ,W, grid, , , ,N
Point23,xy, , ,in, deg, , ,N, , ,W, grid, , , ,N
Point24,xy, , ,in, deg, , ,N, , ,W, grid, , , ,N
Point25,xy, , ,in, deg, , ,N, , ,W, grid, , , ,N
Point26,xy, , ,in, deg, , ,N, , ,W, grid, , , ,N
Point27,xy, , ,in, deg, , ,N, , ,W, grid, , , ,N
Point28,xy, , ,in, deg, , ,N, , ,W, grid, , , ,N
Point29,xy, , ,in, deg, , ,N, , ,W, grid, , , ,N
Point30,xy, , ,in, deg, , ,N, , ,W, grid, , , ,N
Projection Setup,0.0,141,1.0,24500000,0.0
Map Feature = MF ; Map Comment = MC These follow if they exist
Track File = TF These follow if they exist
Moving Map Parameters = MM? These follow if they exist
MM0,Yes
MMPNUM,8
MMPXY,1,11,2956
MMPXY,2,1042,2962
MMPXY,3,2590,2964
MMPXY,4,4137,2956
MMPXY,5,4115,30
MMPXY,6,3094,36
MMPXY,7,1564,38
MMPXY,8,33,30
MMPLL,1,143.000000, 62.000000
MMPLL,2,143.250000, 62.000000
MMPLL,3,143.625000, 62.000000
MMPLL,4,144.000000, 62.000000
MMPLL,5,144.000000, 62.333333
MMPLL,6,143.750000, 62.333333
MMPLL,7,143.375000, 62.333333
MMPLL,8,143.000000, 62.333333
MM1B,12.676966
MOP,Map Open Position,0,0
IWH,Map Image Width/Height,4148,2974
