OziExplorer Map Data File Version 2.2
p54-029,030
p54-029,030.png
1 ,Map Code,
Pulkovo 1942 (2),WGS 84, 0.0000, 0.0000,WGS 84
Reserved 1
Reserved 2
Magnetic Variation,,,E
Map Projection,Transverse Mercator,PolyCal,No,AutoCalOnly,No,BSBUseWPX,No
Point01,xy, 10, 2956,in, deg, 62,59.997503,N, 139,59.994341,E, grid, , , ,N
Point02,xy, 33, 31,in, deg, 63,19.993253,N, 139,59.997650,E, grid, , , ,N
Point03,xy, 3977, 31,in, deg, 63,19.993606,N, 140,59.989983,E, grid, , , ,N
Point04,xy, 4000, 2956,in, deg, 62,59.997234,N, 140,59.993442,E, grid, , , ,N
Point05,xy, , ,in, deg, , ,N, , ,W, grid, , , ,N
Point06,xy, , ,in, deg, , ,N, , ,W, grid, , , ,N
Point07,xy, , ,in, deg, , ,N, , ,W, grid, , , ,N
Point08,xy, , ,in, deg, , ,N, , ,W, grid, , , ,N
Point09,xy, , ,in, deg, , ,N, , ,W, grid, , , ,N
Point10,xy, , ,in, deg, , ,N, , ,W, grid, , , ,N
Point11,xy, , ,in, deg, , ,N, , ,W, grid, , , ,N
Point12,xy, , ,in, deg, , ,N, , ,W, grid, , , ,N
Point13,xy, , ,in, deg, , ,N, , ,W, grid, , , ,N
Point14,xy, , ,in, deg, , ,N, , ,W, grid, , , ,N
Point15,xy, , ,in, deg, , ,N, , ,W, grid, , , ,N
Point16,xy, , ,in, deg, , ,N, , ,W, grid, , , ,N
Point17,xy, , ,in, deg, , ,N, , ,W, grid, , , ,N
Point18,xy, , ,in, deg, , ,N, , ,W, grid, , , ,N
Point19,xy, , ,in, deg, , ,N, , ,W, grid, , , ,N
Point20,xy, , ,in, deg, , ,N, , ,W, grid, , , ,N
Point21,xy, , ,in, deg, , ,N, , ,W, grid, , , ,N
Point22,xy, , ,in, deg, , ,N, , ,W, grid, , , ,N
Point23,xy, , ,in, deg, , ,N, , ,W, grid, , , ,N
Point24,xy, , ,in, deg, , ,N, , ,W, grid, , , ,N
Point25,xy, , ,in, deg, , ,N, , ,W, grid, , , ,N
Point26,xy, , ,in, deg, , ,N, , ,W, grid, , , ,N
Point27,xy, , ,in, deg, , ,N, , ,W, grid, , , ,N
Point28,xy, , ,in, deg, , ,N, , ,W, grid, , , ,N
Point29,xy, , ,in, deg, , ,N, , ,W, grid, , , ,N
Point30,xy, , ,in, deg, , ,N, , ,W, grid, , , ,N
Projection Setup,0.0,141,1.0,24500000,0.0
Map Feature = MF ; Map Comment = MC These follow if they exist
Track File = TF These follow if they exist
Moving Map Parameters = MM? These follow if they exist
MM0,Yes
MMPNUM,8
MMPXY,1,10,2956
MMPXY,2,1008,2961
MMPXY,3,2504,2963
MMPXY,4,4000,2956
MMPXY,5,3978,30
MMPXY,6,2992,36
MMPXY,7,1512,37
MMPXY,8,33,30
MMPLL,1,140.000000, 63.000000
MMPLL,2,140.250000, 63.000000
MMPLL,3,140.625000, 63.000000
MMPLL,4,141.000000, 63.000000
MMPLL,5,141.000000, 63.333333
MMPLL,6,140.750000, 63.333333
MMPLL,7,140.375000, 63.333333
MMPLL,8,140.000000, 63.333333
MM1B,12.678255
MOP,Map Open Position,0,0
IWH,Map Image Width/Height,4011,2973
