OziExplorer Map Data File Version 2.2
p54-081,082
p54-081,082.png
1 ,Map Code,
Pulkovo 1942 (2),WGS 84, 0.0000, 0.0000,WGS 84
Reserved 1
Reserved 2
Magnetic Variation,,,E
Map Projection,Transverse Mercator,PolyCal,No,AutoCalOnly,No,BSBUseWPX,No
Point01,xy, 10, 2956,in, deg, 61,39.996627,N, 141,59.999730,E, grid, , , ,N
Point02,xy, 32, 31,in, deg, 61,59.996114,N, 141,59.992374,E, grid, , , ,N
Point03,xy, 4158, 31,in, deg, 61,59.995163,N, 142,59.989364,E, grid, , , ,N
Point04,xy, 4181, 2956,in, deg, 61,39.997661,N, 142,59.996561,E, grid, , , ,N
Point05,xy, , ,in, deg, , ,N, , ,W, grid, , , ,N
Point06,xy, , ,in, deg, , ,N, , ,W, grid, , , ,N
Point07,xy, , ,in, deg, , ,N, , ,W, grid, , , ,N
Point08,xy, , ,in, deg, , ,N, , ,W, grid, , , ,N
Point09,xy, , ,in, deg, , ,N, , ,W, grid, , , ,N
Point10,xy, , ,in, deg, , ,N, , ,W, grid, , , ,N
Point11,xy, , ,in, deg, , ,N, , ,W, grid, , , ,N
Point12,xy, , ,in, deg, , ,N, , ,W, grid, , , ,N
Point13,xy, , ,in, deg, , ,N, , ,W, grid, , , ,N
Point14,xy, , ,in, deg, , ,N, , ,W, grid, , , ,N
Point15,xy, , ,in, deg, , ,N, , ,W, grid, , , ,N
Point16,xy, , ,in, deg, , ,N, , ,W, grid, , , ,N
Point17,xy, , ,in, deg, , ,N, , ,W, grid, , , ,N
Point18,xy, , ,in, deg, , ,N, , ,W, grid, , , ,N
Point19,xy, , ,in, deg, , ,N, , ,W, grid, , , ,N
Point20,xy, , ,in, deg, , ,N, , ,W, grid, , , ,N
Point21,xy, , ,in, deg, , ,N, , ,W, grid, , , ,N
Point22,xy, , ,in, deg, , ,N, , ,W, grid, , , ,N
Point23,xy, , ,in, deg, , ,N, , ,W, grid, , , ,N
Point24,xy, , ,in, deg, , ,N, , ,W, grid, , , ,N
Point25,xy, , ,in, deg, , ,N, , ,W, grid, , , ,N
Point26,xy, , ,in, deg, , ,N, , ,W, grid, , , ,N
Point27,xy, , ,in, deg, , ,N, , ,W, grid, , , ,N
Point28,xy, , ,in, deg, , ,N, , ,W, grid, , , ,N
Point29,xy, , ,in, deg, , ,N, , ,W, grid, , , ,N
Point30,xy, , ,in, deg, , ,N, , ,W, grid, , , ,N
Projection Setup,0.0,141,1.0,24500000,0.0
Map Feature = MF ; Map Comment = MC These follow if they exist
Track File = TF These follow if they exist
Moving Map Parameters = MM? These follow if they exist
MM0,Yes
MMPNUM,8
MMPXY,1,10,2956
MMPXY,2,1053,2962
MMPXY,3,2617,2963
MMPXY,4,4181,2956
MMPXY,5,4159,30
MMPXY,6,3127,36
MMPXY,7,1580,38
MMPXY,8,33,30
MMPLL,1,142.000000, 61.666667
MMPLL,2,142.250000, 61.666667
MMPLL,3,142.625000, 61.666667
MMPLL,4,143.000000, 61.666667
MMPLL,5,143.000000, 62.000000
MMPLL,6,142.750000, 62.000000
MMPLL,7,142.375000, 62.000000
MMPLL,8,142.000000, 62.000000
MM1B,12.678944
MOP,Map Open Position,0,0
IWH,Map Image Width/Height,4192,2974
