OziExplorer Map Data File Version 2.2
p54-045,046
p54-045,046.png
1 ,Map Code,
Pulkovo 1942 (2),WGS 84, 0.0000, 0.0000,WGS 84
Reserved 1
Reserved 2
Magnetic Variation,,,E
Map Projection,Transverse Mercator,PolyCal,No,AutoCalOnly,No,BSBUseWPX,No
Point01,xy, 10, 2957,in, deg, 62,39.996288,N, 141,59.989897,E, grid, , , ,N
Point02,xy, 33, 31,in, deg, 62,59.999810,N, 141,59.993990,E, grid, , , ,N
Point03,xy, 4023, 31,in, deg, 62,59.998917,N, 142,59.989389,E, grid, , , ,N
Point04,xy, 4046, 2957,in, deg, 62,39.997302,N, 142,59.993641,E, grid, , , ,N
Point05,xy, , ,in, deg, , ,N, , ,W, grid, , , ,N
Point06,xy, , ,in, deg, , ,N, , ,W, grid, , , ,N
Point07,xy, , ,in, deg, , ,N, , ,W, grid, , , ,N
Point08,xy, , ,in, deg, , ,N, , ,W, grid, , , ,N
Point09,xy, , ,in, deg, , ,N, , ,W, grid, , , ,N
Point10,xy, , ,in, deg, , ,N, , ,W, grid, , , ,N
Point11,xy, , ,in, deg, , ,N, , ,W, grid, , , ,N
Point12,xy, , ,in, deg, , ,N, , ,W, grid, , , ,N
Point13,xy, , ,in, deg, , ,N, , ,W, grid, , , ,N
Point14,xy, , ,in, deg, , ,N, , ,W, grid, , , ,N
Point15,xy, , ,in, deg, , ,N, , ,W, grid, , , ,N
Point16,xy, , ,in, deg, , ,N, , ,W, grid, , , ,N
Point17,xy, , ,in, deg, , ,N, , ,W, grid, , , ,N
Point18,xy, , ,in, deg, , ,N, , ,W, grid, , , ,N
Point19,xy, , ,in, deg, , ,N, , ,W, grid, , , ,N
Point20,xy, , ,in, deg, , ,N, , ,W, grid, , , ,N
Point21,xy, , ,in, deg, , ,N, , ,W, grid, , , ,N
Point22,xy, , ,in, deg, , ,N, , ,W, grid, , , ,N
Point23,xy, , ,in, deg, , ,N, , ,W, grid, , , ,N
Point24,xy, , ,in, deg, , ,N, , ,W, grid, , , ,N
Point25,xy, , ,in, deg, , ,N, , ,W, grid, , , ,N
Point26,xy, , ,in, deg, , ,N, , ,W, grid, , , ,N
Point27,xy, , ,in, deg, , ,N, , ,W, grid, , , ,N
Point28,xy, , ,in, deg, , ,N, , ,W, grid, , , ,N
Point29,xy, , ,in, deg, , ,N, , ,W, grid, , , ,N
Point30,xy, , ,in, deg, , ,N, , ,W, grid, , , ,N
Projection Setup,0.0,141,1.0,24500000,0.0
Map Feature = MF ; Map Comment = MC These follow if they exist
Track File = TF These follow if they exist
Moving Map Parameters = MM? These follow if they exist
MM0,Yes
MMPNUM,8
MMPXY,1,11,2956
MMPXY,2,1020,2962
MMPXY,3,2533,2964
MMPXY,4,4046,2957
MMPXY,5,4024,31
MMPXY,6,3026,37
MMPXY,7,1530,38
MMPXY,8,33,31
MMPLL,1,142.000000, 62.666667
MMPLL,2,142.250000, 62.666667
MMPLL,3,142.625000, 62.666667
MMPLL,4,143.000000, 62.666667
MMPLL,5,143.000000, 63.000000
MMPLL,6,142.750000, 63.000000
MMPLL,7,142.375000, 63.000000
MMPLL,8,142.000000, 63.000000
MM1B,12.677807
MOP,Map Open Position,0,0
IWH,Map Image Width/Height,4057,2974
